
BEGIN:VCALENDAR
VERSION:2.0
PRODID:-//Anonimowi Alkoholicy - ECPv6.15.20//NONSGML v1.0//EN
CALSCALE:GREGORIAN
METHOD:PUBLISH
X-ORIGINAL-URL:https://aa.org.pl
X-WR-CALDESC:Wydarzenia dla Anonimowi Alkoholicy
REFRESH-INTERVAL;VALUE=DURATION:PT1H
X-Robots-Tag:noindex
X-PUBLISHED-TTL:PT1H
BEGIN:VTIMEZONE
TZID:UTC
BEGIN:STANDARD
TZOFFSETFROM:+0000
TZOFFSETTO:+0000
TZNAME:UTC
DTSTART:20250101T000000
END:STANDARD
END:VTIMEZONE
BEGIN:VEVENT
DTSTART;TZID=UTC:20260424T090000
DTEND;TZID=UTC:20260424T161500
DTSTAMP:20260424T114750
CREATED:20260424T074642Z
LAST-MODIFIED:20260424T074643Z
UID:10000402-1777021200-1777047300@aa.org.pl
SUMMARY:Warsztaty
DESCRIPTION:
URL:https://aa.org.pl/kalendarium/warsztaty-26/
LOCATION:Łomża Wąska\, Wąska 93\, Łomża\, 18 400\, Poland
CATEGORIES:Grupowe
ATTACH;FMTTYPE=image/jpeg:https://aa.org.pl/wp-content/uploads/2026/04/Lomza.jpeg
END:VEVENT
END:VCALENDAR