
BEGIN:VCALENDAR
VERSION:2.0
PRODID:-//Anonimowi Alkoholicy - ECPv6.15.20//NONSGML v1.0//EN
CALSCALE:GREGORIAN
METHOD:PUBLISH
X-ORIGINAL-URL:https://aa.org.pl
X-WR-CALDESC:Wydarzenia dla Anonimowi Alkoholicy
REFRESH-INTERVAL;VALUE=DURATION:PT1H
X-Robots-Tag:noindex
X-PUBLISHED-TTL:PT1H
BEGIN:VTIMEZONE
TZID:UTC
BEGIN:STANDARD
TZOFFSETFROM:+0000
TZOFFSETTO:+0000
TZNAME:UTC
DTSTART:20250101T000000
END:STANDARD
END:VTIMEZONE
BEGIN:VEVENT
DTSTART;TZID=UTC:20260131T073000
DTEND;TZID=UTC:20260131T235900
DTSTAMP:20260420T211030
CREATED:20251216T143834Z
LAST-MODIFIED:20251216T143835Z
UID:10000357-1769844600-1769903940@aa.org.pl
SUMMARY:Nocny Mityng Spikerski
DESCRIPTION:
URL:https://aa.org.pl/kalendarium/nocny-mityng-spikerski/
LOCATION:Edynburg Gayfield Place\, 4 Gayfield Place\, EH7 4AB\, United Kingdom
CATEGORIES:Grupowe
ATTACH;FMTTYPE=image/jpeg:https://aa.org.pl/wp-content/uploads/2025/12/Edynburg_2026.jpg
END:VEVENT
END:VCALENDAR