
BEGIN:VCALENDAR
VERSION:2.0
PRODID:-//Anonimowi Alkoholicy - ECPv6.15.20//NONSGML v1.0//EN
CALSCALE:GREGORIAN
METHOD:PUBLISH
X-ORIGINAL-URL:https://aa.org.pl
X-WR-CALDESC:Wydarzenia dla Anonimowi Alkoholicy
REFRESH-INTERVAL;VALUE=DURATION:PT1H
X-Robots-Tag:noindex
X-PUBLISHED-TTL:PT1H
BEGIN:VTIMEZONE
TZID:UTC
BEGIN:STANDARD
TZOFFSETFROM:+0000
TZOFFSETTO:+0000
TZNAME:UTC
DTSTART:20220101T000000
END:STANDARD
END:VTIMEZONE
BEGIN:VEVENT
DTSTART;TZID=UTC:20231119T000000
DTEND;TZID=UTC:20231119T235959
DTSTAMP:20260422T115942
CREATED:20230710T063754Z
LAST-MODIFIED:20230710T063754Z
UID:10000054-1700352000-1700438399@aa.org.pl
SUMMARY:Zgromadzenie Służb Regionu Łódź
DESCRIPTION:BSA Rodzina
URL:https://aa.org.pl/kalendarium/zgromadzenie-sluzb-regionu-lodz/
LOCATION:Łódź Limanowskiego\, Limanowskiego 196a\, 91 027\, Poland
CATEGORIES:Regionalne
ORGANIZER;CN="Region %C5%81%C3%B3d%C5%BA":MAILTO:lodz@aa.org.pl
END:VEVENT
END:VCALENDAR