
BEGIN:VCALENDAR
VERSION:2.0
PRODID:-//Anonimowi Alkoholicy - ECPv6.15.20//NONSGML v1.0//EN
CALSCALE:GREGORIAN
METHOD:PUBLISH
X-ORIGINAL-URL:https://aa.org.pl
X-WR-CALDESC:Wydarzenia dla Anonimowi Alkoholicy
REFRESH-INTERVAL;VALUE=DURATION:PT1H
X-Robots-Tag:noindex
X-PUBLISHED-TTL:PT1H
BEGIN:VTIMEZONE
TZID:UTC
BEGIN:STANDARD
TZOFFSETFROM:+0000
TZOFFSETTO:+0000
TZNAME:UTC
DTSTART:20230101T000000
END:STANDARD
END:VTIMEZONE
BEGIN:VEVENT
DTSTART;TZID=UTC:20240616T090000
DTEND;TZID=UTC:20240616T160000
DTSTAMP:20260422T060818
CREATED:20240527T094011Z
LAST-MODIFIED:20240527T094135Z
UID:10000094-1718528400-1718553600@aa.org.pl
SUMMARY:Warsztaty "Jedność w AA"
DESCRIPTION:WARSZTATY-JEDNOSC-W-AAPobierz
URL:https://aa.org.pl/kalendarium/warsztaty-jednosc-w-aa/
LOCATION:Reguły Powstańców Warszawy\, al. Powstańców Warszawy 1\, Reguły\, 05 816\, Poland
CATEGORIES:Intergrupowe
ORGANIZER;CN="Intergrupa Zach%C3%B3d":MAILTO:zachod013@aa.org.pl
END:VEVENT
END:VCALENDAR