
BEGIN:VCALENDAR
VERSION:2.0
PRODID:-//Anonimowi Alkoholicy - ECPv6.15.20//NONSGML v1.0//EN
CALSCALE:GREGORIAN
METHOD:PUBLISH
X-WR-CALNAME:Anonimowi Alkoholicy
X-ORIGINAL-URL:https://aa.org.pl
X-WR-CALDESC:Wydarzenia dla Anonimowi Alkoholicy
REFRESH-INTERVAL;VALUE=DURATION:PT1H
X-Robots-Tag:noindex
X-PUBLISHED-TTL:PT1H
BEGIN:VTIMEZONE
TZID:UTC
BEGIN:STANDARD
TZOFFSETFROM:+0000
TZOFFSETTO:+0000
TZNAME:UTC
DTSTART:20230101T000000
END:STANDARD
END:VTIMEZONE
BEGIN:VEVENT
DTSTART;TZID=UTC:20240322T000000
DTEND;TZID=UTC:20240322T235959
DTSTAMP:20260424T115747
CREATED:20230925T171708Z
LAST-MODIFIED:20231220T085833Z
UID:10000071-1711065600-1711151999@aa.org.pl
SUMMARY:Warsztaty Tradycji AA
DESCRIPTION:Tradycje I – VI \n\n\n\n\n\n\n\nKontakt: Paweł 660742886
URL:https://aa.org.pl/kalendarium/warsztaty-tradycji-aa/
LOCATION:Koszalin\, Seminaryjna 2A\, Koszalin\, 75 915\, Poland
CATEGORIES:Intergrupowe
ORGANIZER;CN="Intergrupa Port":MAILTO:port011@aa.org.pl
END:VEVENT
BEGIN:VEVENT
DTSTART;TZID=UTC:20240322T000000
DTEND;TZID=UTC:20240324T235959
DTSTAMP:20260424T115747
CREATED:20230524T192104Z
LAST-MODIFIED:20260323T145306Z
UID:10000008-1711065600-1711324799@aa.org.pl
SUMMARY:XVIII Ogólnopolskie Warsztaty Kolporterów i Literatury
DESCRIPTION:warsztaty_kolporterowPobierz
URL:https://aa.org.pl/kalendarium/xviii-ogolnopolskie-warsztaty-kolporterow-i-literatury/
LOCATION:Pieczyska\, Wypoczynkowa 1\, Pieczyska\, 86 010\, Poland
CATEGORIES:Krajowe
ORGANIZER;CN="Region Kujawsko-Pomorski i Rada Powiernik%C3%B3w":MAILTO:kujawsko-pomorski@aa.org.pl
END:VEVENT
BEGIN:VEVENT
DTSTART;TZID=UTC:20240323T150000
DTEND;TZID=UTC:20240323T170000
DTSTAMP:20260424T115747
CREATED:20240219T162756Z
LAST-MODIFIED:20240219T162757Z
UID:10000086-1711206000-1711213200@aa.org.pl
SUMMARY:Pogaduchy Skarbników
DESCRIPTION:– warsztaty
URL:https://aa.org.pl/kalendarium/pogaduchy-skarbnikow/
LOCATION:Den Bosch\, Soniusstraat 3\, 5212 AJ\, Netherlands
CATEGORIES:Grupowe
END:VEVENT
END:VCALENDAR