
BEGIN:VCALENDAR
VERSION:2.0
PRODID:-//Anonimowi Alkoholicy - ECPv6.15.20//NONSGML v1.0//EN
CALSCALE:GREGORIAN
METHOD:PUBLISH
X-WR-CALNAME:Anonimowi Alkoholicy
X-ORIGINAL-URL:https://aa.org.pl
X-WR-CALDESC:Wydarzenia dla Anonimowi Alkoholicy
REFRESH-INTERVAL;VALUE=DURATION:PT1H
X-Robots-Tag:noindex
X-PUBLISHED-TTL:PT1H
BEGIN:VTIMEZONE
TZID:UTC
BEGIN:STANDARD
TZOFFSETFROM:+0000
TZOFFSETTO:+0000
TZNAME:UTC
DTSTART:20250101T000000
END:STANDARD
END:VTIMEZONE
BEGIN:VEVENT
DTSTART;TZID=UTC:20260109T170000
DTEND;TZID=UTC:20260111T144500
DTSTAMP:20260420T193259
CREATED:20251116T112744Z
LAST-MODIFIED:20251118T075719Z
UID:10000338-1767978000-1768142700@aa.org.pl
SUMMARY:Warsztaty 12 Kroków
DESCRIPTION:
URL:https://aa.org.pl/kalendarium/warsztaty-12-krokow-6/
LOCATION:Drzeńsko\, Drzeńsko 1\, 78 506\, Poland
CATEGORIES:Intergrupowe
ATTACH;FMTTYPE=image/jpeg:https://aa.org.pl/wp-content/uploads/2023/01/Plakat-informacyjny-Warsztaty-12-krokow-Drzensko-gm.-Zlocieniec.jpg
ORGANIZER;CN="Intergrupa Port":MAILTO:port011@aa.org.pl
END:VEVENT
BEGIN:VEVENT
DTSTART;TZID=UTC:20260116T000000
DTEND;TZID=UTC:20260118T235959
DTSTAMP:20260420T193259
CREATED:20251208T102038Z
LAST-MODIFIED:20251223T095000Z
UID:10000345-1768521600-1768780799@aa.org.pl
SUMMARY:Warsztaty Koncepcji
DESCRIPTION:
URL:https://aa.org.pl/kalendarium/warsztaty-koncepcji-7/
LOCATION:Malinówka Wielka\, Malinówka Wielka 1\, 19 300\, Poland
CATEGORIES:Regionalne
ATTACH;FMTTYPE=image/jpeg:https://aa.org.pl/wp-content/uploads/2025/12/Bialystok_koncepcje_2026_zaproszenie.jpg
ORGANIZER;CN="Region Bia%C5%82ystok":MAILTO:bialystok@aa.org.pl
END:VEVENT
BEGIN:VEVENT
DTSTART;TZID=UTC:20260125T100000
DTEND;TZID=UTC:20260125T130000
DTSTAMP:20260420T193259
CREATED:20250929T085651Z
LAST-MODIFIED:20250929T085652Z
UID:10000322-1769335200-1769346000@aa.org.pl
SUMMARY:Warsztaty KSK
DESCRIPTION:online \n\n\n\nRekomendacje 54.KSK
URL:https://aa.org.pl/kalendarium/warsztaty-ksk-2/
CATEGORIES:inne
ORGANIZER;CN="ZPKSK":MAILTO:konferencja@aa.org.pl
END:VEVENT
BEGIN:VEVENT
DTSTART;TZID=UTC:20260131T073000
DTEND;TZID=UTC:20260131T235900
DTSTAMP:20260420T193259
CREATED:20251216T143834Z
LAST-MODIFIED:20251216T143835Z
UID:10000357-1769844600-1769903940@aa.org.pl
SUMMARY:Nocny Mityng Spikerski
DESCRIPTION:
URL:https://aa.org.pl/kalendarium/nocny-mityng-spikerski/
LOCATION:Edynburg Gayfield Place\, 4 Gayfield Place\, EH7 4AB\, United Kingdom
CATEGORIES:Grupowe
ATTACH;FMTTYPE=image/jpeg:https://aa.org.pl/wp-content/uploads/2025/12/Edynburg_2026.jpg
END:VEVENT
BEGIN:VEVENT
DTSTART;TZID=UTC:20260131T083000
DTEND;TZID=UTC:20260131T143000
DTSTAMP:20260420T193259
CREATED:20251118T142426Z
LAST-MODIFIED:20251118T142427Z
UID:10000341-1769848200-1769869800@aa.org.pl
SUMMARY:Warsztaty Informacji Publicznej
DESCRIPTION:
URL:https://aa.org.pl/kalendarium/warsztaty-informacji-publicznej-6/
LOCATION:Stalowa Wola Klasztorna\, Klasztorna 27\, 37 450\, Poland
ATTACH;FMTTYPE=image/jpeg:https://aa.org.pl/wp-content/uploads/2025/11/Stalowa-wola_IP_2026.jpg
END:VEVENT
BEGIN:VEVENT
DTSTART;TZID=UTC:20260131T090000
DTEND;TZID=UTC:20260131T160000
DTSTAMP:20260420T193259
CREATED:20251110T142011Z
LAST-MODIFIED:20251118T074302Z
UID:10000337-1769850000-1769875200@aa.org.pl
SUMMARY:Warsztaty Kolporterów i Literatury AA
DESCRIPTION:
URL:https://aa.org.pl/kalendarium/warsztaty-kolporterow-i-literatury-aa-3/
LOCATION:Kielce Warszawska\, Warszawska 33\, 25 518\, Poland
CATEGORIES:Intergrupowe
ORGANIZER;CN="Intergrupa %C5%9Awi%C4%99tokrzyska":MAILTO:swietokrzyska012@aa.org.pl
END:VEVENT
END:VCALENDAR