
BEGIN:VCALENDAR
VERSION:2.0
PRODID:-//Anonimowi Alkoholicy - ECPv6.15.20//NONSGML v1.0//EN
CALSCALE:GREGORIAN
METHOD:PUBLISH
X-WR-CALNAME:Anonimowi Alkoholicy
X-ORIGINAL-URL:https://aa.org.pl
X-WR-CALDESC:Wydarzenia dla Anonimowi Alkoholicy
REFRESH-INTERVAL;VALUE=DURATION:PT1H
X-Robots-Tag:noindex
X-PUBLISHED-TTL:PT1H
BEGIN:VTIMEZONE
TZID:UTC
BEGIN:STANDARD
TZOFFSETFROM:+0000
TZOFFSETTO:+0000
TZNAME:UTC
DTSTART:20240101T000000
END:STANDARD
END:VTIMEZONE
BEGIN:VEVENT
DTSTART;TZID=UTC:20251205T150000
DTEND;TZID=UTC:20251207T133000
DTSTAMP:20260420T193259
CREATED:20251026T161057Z
LAST-MODIFIED:20251026T161059Z
UID:10000333-1764946800-1765114200@aa.org.pl
SUMMARY:Warsztaty sponsorowania
DESCRIPTION:
URL:https://aa.org.pl/kalendarium/warsztaty-sponsorowania-3/
LOCATION:Malinówka Wielka\, Malinówka Wielka 1\, 19 300\, Poland
CATEGORIES:Regionalne
ORGANIZER;CN="Region Bia%C5%82ystok":MAILTO:bialystok@aa.org.pl
END:VEVENT
BEGIN:VEVENT
DTSTART;TZID=UTC:20251206T080000
DTEND;TZID=UTC:20251206T180000
DTSTAMP:20260420T193259
CREATED:20250623T140406Z
LAST-MODIFIED:20250826T134813Z
UID:10000279-1765008000-1765044000@aa.org.pl
SUMMARY:Warsztaty 12 Kroków
DESCRIPTION:Kolportaż literatury AA podczas warsztatów
URL:https://aa.org.pl/kalendarium/warsztaty-12/
LOCATION:Warszawa Plac Grzybowski\, Plac Grzybowski 3/5\, 00 115\, Poland
CATEGORIES:Intergrupowe
ATTACH;FMTTYPE=image/jpeg:https://aa.org.pl/wp-content/uploads/2025/06/Polnoc_6.12.2025_zaproszenie.jpg
END:VEVENT
BEGIN:VEVENT
DTSTART;TZID=UTC:20251206T090000
DTEND;TZID=UTC:20251206T170000
DTSTAMP:20260420T193259
CREATED:20251023T092042Z
LAST-MODIFIED:20251027T160031Z
UID:10000332-1765011600-1765040400@aa.org.pl
SUMMARY:Warsztaty Służb
DESCRIPTION:
URL:https://aa.org.pl/kalendarium/warsztaty-sluzb-5/
LOCATION:Garbsen Böckeriethe\, Böckeriethe 43\, 30 827\, Germany
CATEGORIES:Intergrupowe
ATTACH;FMTTYPE=image/jpeg:https://aa.org.pl/wp-content/uploads/2025/10/dolnasaksonia_2025_12.jpg
ORGANIZER;CN="Intergrupa Dolna Saksonia":MAILTO:dolnasaksonia014@aa.org.pl
END:VEVENT
BEGIN:VEVENT
DTSTART;TZID=UTC:20251213T090000
DTEND;TZID=UTC:20251213T130000
DTSTAMP:20260420T193259
CREATED:20251022T062028Z
LAST-MODIFIED:20251022T062029Z
UID:10000330-1765616400-1765630800@aa.org.pl
SUMMARY:Warsztaty
DESCRIPTION:
URL:https://aa.org.pl/kalendarium/warsztaty-14/
LOCATION:Poznań Os. Kosmonautów\, Osiedle Kosmonautów 120\, 61 642
CATEGORIES:Grupowe
ATTACH;FMTTYPE=image/jpeg:https://aa.org.pl/wp-content/uploads/2025/10/trzezwosc_emocjonalna_131220251.jpeg
END:VEVENT
END:VCALENDAR